BEGIN:VCALENDAR
VERSION:2.0
PRODID:-//Tukios.com/
BEGIN:VEVENT
UID:7a3ccc15-5a14-4977-a805-137fcdbd6721@www.schwabmortuary.com
DTSTAMP:20260420T194652Z
DTSTART:20260425T160000Z
DTEND:20260425T164500Z
SUMMARY:Viewing
DESCRIPTION:
URL:https://www.schwabmortuary.com/obituaries/danny-jenkins
LOCATION: 4447 County Road 122  Bedford WY 83112
GEO:42.8992864;-110.937319
END:VEVENT
END:VCALENDAR