BEGIN:VCALENDAR
VERSION:2.0
PRODID:-//Tukios.com/
BEGIN:VEVENT
UID:2a12f354-1b9b-429c-8d50-96f57c2a372c@www.schwabmortuary.com
DTSTAMP:20260420T194525Z
DTSTART:20260424T120000Z
DTEND:20260424T140000Z
SUMMARY:Viewing
DESCRIPTION:
URL:https://www.schwabmortuary.com/obituaries/danny-jenkins
LOCATION: 211 Jepperson Rd Subdivision Hwy 89 Thayne WY 83127
GEO:42.919397;-111.0023804
END:VEVENT
END:VCALENDAR