BEGIN:VCALENDAR
VERSION:2.0
PRODID:-//Tukios.com/
BEGIN:VEVENT
UID:c2360b94-2737-4775-b3d8-bcb9164613ec@www.schwabmortuary.com
DTSTAMP:20260420T195034Z
DTSTART:20260425T170000Z
DTEND:20260425T180000Z
SUMMARY:Funeral Service
DESCRIPTION:
URL:https://www.schwabmortuary.com/obituaries/danny-jenkins
LOCATION:Bedford LDS Church 4447 County Road 122  Bedford WY 83112
GEO:42.8992864;-110.937319
END:VEVENT
END:VCALENDAR